BEGIN:VCALENDAR
PRODID:-//hacksw/handcal//NONSGML v1.0//EN
VERSION:2.0
METHOD:PUBLISH
BEGIN:VEVENT
DTSTART:20251203T014500Z
DTEND:20251203T033000Z
LOCATION:901 E. ALOSTA AVE. AZUSA, CA 91702
UID:2711920251203T014500ZOnboarding New Clients & the Fundamentals of Conflict of Interests
DTSTAMP:20260421T092949Z
DESCRIPTION:\nThis session will provide essential guidance on:\n Understanding Conflicts of Interest: Learn the fundamentals and why proper attention to ethical details at the start of a relationship minimizes issues later. Compliance for Non-Attorney Staff: Address attorneys’ obligations to ensure that the conduct of non-attorney staff complies with the Rules of Professional Conduct (RPC). Best Practices for Client Onboarding: Establish ethical foundations for every new client relationship.
SUMMARY:Onboarding New Clients & the Fundamentals of Conflict of Interests - Citrus Estate Planning Council 
PRIORITY:3
BEGIN:VALARM
TRIGGER:PT18H
ACTION:DISPLAY
DESCRIPTION:Reminder
END:VALARM
END:VEVENT
END:VCALENDAR