BEGIN:VCALENDAR
PRODID:-//hacksw/handcal//NONSGML v1.0//EN
VERSION:2.0
METHOD:PUBLISH
BEGIN:VEVENT
DTSTART:20260805T003000Z
DTEND:20260805T023000Z
LOCATION:
UID:2905920260805T003000ZHOT AUGUST NIGHT
DTSTAMP:20260421T105158Z
DESCRIPTION:
SUMMARY:HOT AUGUST NIGHT - Citrus Estate Planning Council 
PRIORITY:3
BEGIN:VALARM
TRIGGER:PT18H
ACTION:DISPLAY
DESCRIPTION:Reminder
END:VALARM
END:VEVENT
END:VCALENDAR