BEGIN:VCALENDAR
PRODID:-//hacksw/handcal//NONSGML v1.0//EN
VERSION:2.0
METHOD:PUBLISH
BEGIN:VEVENT
DTSTART:20260506T004500Z
DTEND:20260506T023000Z
LOCATION:901 E. ALOSTA AVE. AZUSA, CA 91702
UID:2943220260506T004500ZProtecting Our Elders Assets from Financial Abuse 
DTSTAMP:20260422T085216Z
DESCRIPTION:\nWith nearly two decades of professional legal experience, my mission has remained steadfast: to safeguard families and their assets while protecting dreams and legacies of parents, seniors, business owners, and veterans. My experience in estate planning, business formation, elder law, and estate administration (trust and probate) coupled with my skills in the courtroom enables my me and my firm to offer a comprehensive concierge service that anticipates and navigates life's uncertainties and fights hard protect clients dreams when things go wrong\n
SUMMARY:Protecting Our Elders Assets from Financial Abuse  - Citrus Estate Planning Council 
PRIORITY:3
BEGIN:VALARM
TRIGGER:PT18H
ACTION:DISPLAY
DESCRIPTION:Reminder
END:VALARM
END:VEVENT
END:VCALENDAR